{ "currentVersion": 10.71, "serviceDescription": "
Ortofotos Digitais para área de interesse com Resolução Geométrica de 10cm, com recortes no formato A1, na a articulação SICAD-SIRGAS para escala 1:1.000 <\/span><\/span><\/p> <\/p><\/div><\/div>",
"name": "Imagens/2020_DRONES",
"description": " Ortofotos Digitais para área de interesse com Resolução Geométrica de 10cm, com recortes no formato A1, na a articulação SICAD-SIRGAS para escala 1:1.000 <\/span><\/span><\/p> <\/p><\/div><\/div>",
"extent": {
"xmin": 164511.20000002297,
"ymin": 8235473.800000015,
"xmax": 206733.69999999777,
"ymax": 8259166.4,
"spatialReference": {
"wkid": 31983,
"latestWkid": 31983
}
},
"initialExtent": {
"xmin": 164511.20000002297,
"ymin": 8235473.800000015,
"xmax": 206733.69999999777,
"ymax": 8259166.4,
"spatialReference": {
"wkid": 31983,
"latestWkid": 31983
}
},
"fullExtent": {
"xmin": 164511.20000002297,
"ymin": 8235473.800000015,
"xmax": 206733.69999999777,
"ymax": 8259166.4,
"spatialReference": {
"wkid": 31983,
"latestWkid": 31983
}
},
"pixelSizeX": 0.0999999999999403,
"pixelSizeY": 0.09999999999993947,
"bandCount": 3,
"pixelType": "U8",
"minPixelSize": 0.13229193125052918,
"maxPixelSize": 105.83354500042334,
"copyrightText": "2020_DRONES",
"serviceDataType": "esriImageServiceDataTypeRGB",
"minValues": [
15,
13,
10
],
"maxValues": [
228,
233,
220
],
"meanValues": [
98.48640883142369,
95.91977618993609,
80.5656874976367
],
"stdvValues": [
30.63982845064374,
26.224284741643253,
24.62616572848249
],
"objectIdField": "OBJECTID",
"fields": [
{
"name": "OBJECTID",
"type": "esriFieldTypeOID",
"alias": "OBJECTID",
"domain": null
},
{
"name": "Shape",
"type": "esriFieldTypeGeometry",
"alias": "Shape",
"domain": null
},
{
"name": "Name",
"type": "esriFieldTypeString",
"alias": "Name",
"domain": null,
"length": 200
},
{
"name": "MinPS",
"type": "esriFieldTypeDouble",
"alias": "MinPS",
"domain": null
},
{
"name": "MaxPS",
"type": "esriFieldTypeDouble",
"alias": "MaxPS",
"domain": null
},
{
"name": "LowPS",
"type": "esriFieldTypeDouble",
"alias": "LowPS",
"domain": null
},
{
"name": "HighPS",
"type": "esriFieldTypeDouble",
"alias": "HighPS",
"domain": null
},
{
"name": "Category",
"type": "esriFieldTypeInteger",
"alias": "Category",
"domain": {
"type": "codedValue",
"name": "MosaicCatalogItemCategoryDomain",
"description": "Catalog item categories.",
"codedValues": [
{
"name": "Unknown",
"code": 0
},
{
"name": "Primary",
"code": 1
},
{
"name": "Overview",
"code": 2
},
{
"name": "Unprocessed Overview",
"code": 3
},
{
"name": "Partial Overview",
"code": 4
},
{
"name": "Inactive",
"code": 5
},
{
"name": "Uploaded",
"code": 253
},
{
"name": "Incomplete",
"code": 254
},
{
"name": "Custom",
"code": 255
}
],
"mergePolicy": "esriMPTDefaultValue",
"splitPolicy": "esriSPTDefaultValue"
}
},
{
"name": "Tag",
"type": "esriFieldTypeString",
"alias": "Tag",
"domain": null,
"length": 100
},
{
"name": "GroupName",
"type": "esriFieldTypeString",
"alias": "GroupName",
"domain": null,
"length": 100
},
{
"name": "ProductName",
"type": "esriFieldTypeString",
"alias": "ProductName",
"domain": null,
"length": 100
},
{
"name": "CenterX",
"type": "esriFieldTypeDouble",
"alias": "CenterX",
"domain": null
},
{
"name": "CenterY",
"type": "esriFieldTypeDouble",
"alias": "CenterY",
"domain": null
},
{
"name": "ZOrder",
"type": "esriFieldTypeInteger",
"alias": "ZOrder",
"domain": null
},
{
"name": "Shape_Length",
"type": "esriFieldTypeDouble",
"alias": "Shape_Length",
"domain": null
},
{
"name": "Shape_Area",
"type": "esriFieldTypeDouble",
"alias": "Shape_Area",
"domain": null
}
],
"capabilities": "Catalog,Image,Metadata",
"defaultMosaicMethod": "Northwest",
"allowedMosaicMethods": "NorthWest,Center,LockRaster,ByAttribute,Nadir,Viewpoint,Seamline,None",
"sortField": "",
"sortValue": null,
"mosaicOperator": "First",
"maxDownloadSizeLimit": 2048,
"defaultCompressionQuality": 75,
"defaultResamplingMethod": "Bilinear",
"maxImageHeight": 4100,
"maxImageWidth": 15000,
"maxRecordCount": 1000,
"maxDownloadImageCount": 20,
"maxMosaicImageCount": 20,
"singleFusedMapCache": true,
"tileInfo": {
"rows": 256,
"cols": 256,
"dpi": 96,
"format": "MIXED",
"compressionQuality": 75,
"origin": {
"x": -5120900,
"y": 19998100
},
"spatialReference": {
"wkid": 31983,
"latestWkid": 31983
},
"lods": [
{
"level": 0,
"resolution": 105.83354500042334,
"scale": 400000
},
{
"level": 1,
"resolution": 79.37515875031751,
"scale": 300000
},
{
"level": 2,
"resolution": 52.91677250021167,
"scale": 200000
},
{
"level": 3,
"resolution": 26.458386250105836,
"scale": 100000
},
{
"level": 4,
"resolution": 13.229193125052918,
"scale": 50000
},
{
"level": 5,
"resolution": 6.614596562526459,
"scale": 25000
},
{
"level": 6,
"resolution": 2.6458386250105836,
"scale": 10000
},
{
"level": 7,
"resolution": 1.3229193125052918,
"scale": 5000
},
{
"level": 8,
"resolution": 0.6614596562526459,
"scale": 2500
},
{
"level": 9,
"resolution": 0.26458386250105836,
"scale": 1000
},
{
"level": 10,
"resolution": 0.13229193125052918,
"scale": 500
}
]
},
"cacheType": "Map",
"allowRasterFunction": true,
"rasterFunctionInfos": [
{
"name": "None",
"description": "",
"help": ""
}
],
"rasterTypeInfos": [
{
"name": "Raster Dataset",
"description": "Supports all ArcGIS Raster Datasets",
"help": ""
}
],
"mensurationCapabilities": "None",
"hasHistograms": true,
"hasColormap": false,
"hasRasterAttributeTable": false,
"minScale": 400000,
"maxScale": 500,
"minLOD": 0,
"maxLOD": 10,
"exportTilesAllowed": false,
"hasMultidimensions": false,
"supportsStatistics": true,
"supportsAdvancedQueries": true,
"editFieldsInfo": null,
"ownershipBasedAccessControlForRasters": null,
"allowComputeTiePoints": false,
"useStandardizedQueries": true,
"advancedQueryCapabilities": {
"useStandardizedQueries": true,
"supportsStatistics": true,
"supportsOrderBy": true,
"supportsDistinct": true,
"supportsPagination": true
},
"spatialReference": {
"wkid": 31983,
"latestWkid": 31983
}
}