<?xml version="1.0" encoding="UTF-8" standalone="no"?>
<metadata xml:lang="pt">
<Esri>
<CreaDate>20220817</CreaDate>
<CreaTime>14303300</CreaTime>
<ArcGISFormat>1.0</ArcGISFormat>
<ArcGISstyle>INSPIRE Metadata Directive</ArcGISstyle>
<SyncOnce>FALSE</SyncOnce>
<DataProperties>
<itemProps>
<itemName Sync="TRUE">CBERS_4A_2021</itemName>
<nativeExtBox>
<westBL Sync="TRUE">148010.285072</westBL>
<eastBL Sync="TRUE">253018.285072</eastBL>
<southBL Sync="TRUE">8222801.100752</southBL>
<northBL Sync="TRUE">8284705.100752</northBL>
<exTypeCode Sync="TRUE">1</exTypeCode>
</nativeExtBox>
</itemProps>
<coordRef>
<type Sync="TRUE">Projected</type>
<geogcsn Sync="TRUE">GCS_SIRGAS_2000</geogcsn>
<csUnits Sync="TRUE">Linear Unit: Meter (1.000000)</csUnits>
<projcsn Sync="TRUE">SIRGAS_2000_UTM_Zone_23S</projcsn>
<peXml Sync="TRUE">&lt;ProjectedCoordinateSystem xsi:type='typens:ProjectedCoordinateSystem' xmlns:xsi='http://www.w3.org/2001/XMLSchema-instance' xmlns:xs='http://www.w3.org/2001/XMLSchema' xmlns:typens='http://www.esri.com/schemas/ArcGIS/10.8'&gt;&lt;WKT&gt;PROJCS[&amp;quot;SIRGAS_2000_UTM_Zone_23S&amp;quot;,GEOGCS[&amp;quot;GCS_SIRGAS_2000&amp;quot;,DATUM[&amp;quot;D_SIRGAS_2000&amp;quot;,SPHEROID[&amp;quot;GRS_1980&amp;quot;,6378137.0,298.257222101]],PRIMEM[&amp;quot;Greenwich&amp;quot;,0.0],UNIT[&amp;quot;Degree&amp;quot;,0.0174532925199433]],PROJECTION[&amp;quot;Transverse_Mercator&amp;quot;],PARAMETER[&amp;quot;False_Easting&amp;quot;,500000.0],PARAMETER[&amp;quot;False_Northing&amp;quot;,10000000.0],PARAMETER[&amp;quot;Central_Meridian&amp;quot;,-45.0],PARAMETER[&amp;quot;Scale_Factor&amp;quot;,0.9996],PARAMETER[&amp;quot;Latitude_Of_Origin&amp;quot;,0.0],UNIT[&amp;quot;Meter&amp;quot;,1.0],AUTHORITY[&amp;quot;EPSG&amp;quot;,31983]]&lt;/WKT&gt;&lt;XOrigin&gt;-5120900&lt;/XOrigin&gt;&lt;YOrigin&gt;1900&lt;/YOrigin&gt;&lt;XYScale&gt;450445547.3910538&lt;/XYScale&gt;&lt;ZOrigin&gt;-100000&lt;/ZOrigin&gt;&lt;ZScale&gt;10000&lt;/ZScale&gt;&lt;MOrigin&gt;-100000&lt;/MOrigin&gt;&lt;MScale&gt;10000&lt;/MScale&gt;&lt;XYTolerance&gt;0.001&lt;/XYTolerance&gt;&lt;ZTolerance&gt;0.001&lt;/ZTolerance&gt;&lt;MTolerance&gt;0.001&lt;/MTolerance&gt;&lt;HighPrecision&gt;true&lt;/HighPrecision&gt;&lt;WKID&gt;31983&lt;/WKID&gt;&lt;LatestWKID&gt;31983&lt;/LatestWKID&gt;&lt;/ProjectedCoordinateSystem&gt;</peXml>
</coordRef>
<RasterProperties>
<General>
<PixelDepth Sync="TRUE">8</PixelDepth>
<HasColormap Sync="TRUE">FALSE</HasColormap>
<CompressionType Sync="TRUE">None</CompressionType>
<NumBands Sync="TRUE">3</NumBands>
<Format Sync="TRUE">AMD</Format>
<HasPyramids Sync="TRUE">TRUE</HasPyramids>
<SourceType Sync="TRUE">continuous</SourceType>
<PixelType Sync="TRUE">unsigned integer</PixelType>
<NoDataValue Sync="TRUE">
</NoDataValue>
</General>
<Properties>
<MaxImageHeight Sync="TRUE">4100</MaxImageHeight>
<MaxImageWidth Sync="TRUE">15000</MaxImageWidth>
<MaxRecordCount Sync="TRUE">1000</MaxRecordCount>
<MaxDownloadImageCount Sync="TRUE">20</MaxDownloadImageCount>
<MaxDownloadSizeLimit Sync="TRUE">2048</MaxDownloadSizeLimit>
<MaxMosaicImageCount Sync="TRUE">20</MaxMosaicImageCount>
<DefaultCompressionQuality Sync="TRUE">75</DefaultCompressionQuality>
<DefaultCompressionTolerance Sync="TRUE">0,01</DefaultCompressionTolerance>
<BlendWidth Sync="TRUE">10</BlendWidth>
<ViewpointSpacingX Sync="TRUE">600</ViewpointSpacingX>
<ViewpointSpacingY Sync="TRUE">300</ViewpointSpacingY>
<AllowedItemMetadata Sync="TRUE">Basic</AllowedItemMetadata>
<DefaultResamplingMethod Sync="TRUE">1</DefaultResamplingMethod>
<AllowedMosaicMethods Sync="TRUE">NorthWest,Center,LockRaster,ByAttribute,Nadir,Viewpoint,Seamline,None</AllowedMosaicMethods>
<AllowedCompressions Sync="TRUE">None,JPEG,LZ77,LERC</AllowedCompressions>
<AllowedMensurationCapabilities Sync="TRUE">Basic</AllowedMensurationCapabilities>
<AvailableMensurationCapabilities Sync="TRUE">None,Basic,Base-Top Height,Top-Top Shadow Height,Base-Top Shadow Height,3D</AvailableMensurationCapabilities>
<ClipToBoundary Sync="TRUE">0</ClipToBoundary>
<FootprintMayContainNoData Sync="TRUE">-1</FootprintMayContainNoData>
<CellSizeTolerance Sync="TRUE">0,8</CellSizeTolerance>
<MinimumPixelContribution Sync="TRUE">1</MinimumPixelContribution>
<AvailableMosaicMethods Sync="TRUE">NorthWest,Center,LockRaster,ByAttribute,Nadir,Viewpoint,Seamline,None</AvailableMosaicMethods>
<AvailableCompressionMethods Sync="TRUE">None,JPEG,LZ77,LERC</AvailableCompressionMethods>
<AvailableItemMetadataLevels Sync="TRUE">None,Basic,Full</AvailableItemMetadataLevels>
<BandDefinitionKeyword Sync="TRUE">NONE</BandDefinitionKeyword>
<_docversion_ Sync="TRUE">10</_docversion_>
<AllowedFields Sync="TRUE">Name,MinPS,MaxPS,LowPS,HighPS,Tag,GroupName,ProductName,CenterX,CenterY,ZOrder,Shape_Length,Shape_Area</AllowedFields>
<LowCellSize Sync="TRUE">8</LowCellSize>
<HighCellSize Sync="TRUE">64</HighCellSize>
<MaxCellSize Sync="TRUE">640</MaxCellSize>
<ClipToFootprint Sync="TRUE">-1</ClipToFootprint>
<ApplyColorCorrection Sync="TRUE">0</ApplyColorCorrection>
</Properties>
<Functions Sync="TRUE">
<Function Description="Performs on-the-fly mosaic on a raster catalog." Name="Mosaic Function">
</Function>
</Functions>
</RasterProperties>
</DataProperties>
<SyncDate>20220817</SyncDate>
<SyncTime>15264000</SyncTime>
<ModDate>20220817</ModDate>
<ModTime>15291100</ModTime>
<scaleRange>
<minScale>150000000</minScale>
<maxScale>5000</maxScale>
</scaleRange>
<ArcGISProfile>INSPIRE</ArcGISProfile>
</Esri>
<mdLang>
<languageCode value="por">
</languageCode>
<countryCode Sync="TRUE" value="BRA">
</countryCode>
</mdLang>
<mdChar>
<CharSetCd value="004">
</CharSetCd>
</mdChar>
<mdHrLv>
<ScopeCd value="005">
</ScopeCd>
</mdHrLv>
<mdHrLvName>dataset</mdHrLvName>
<mdStanName>ArcGIS Metadata</mdStanName>
<mdStanVer>1.0</mdStanVer>
<dataIdInfo>
<idCitation>
<presForm>
<PresFormCd value="005">
</PresFormCd>
</presForm>
<resTitle Sync="TRUE">CBERS_4A_2021</resTitle>
</idCitation>
<idAbs>Cobertura de solo por imagens de satélite CBERS 4A do Disatrito Federal.</idAbs>
<idPurp>Mosaico imagens de satélite CBERS 4A</idPurp>
<idCredit>SEDUH/DIGEO</idCredit>
<otherKeys>
<keyword>FOTO; FOTOS; IMAGEM; IMAGENS; SATÉLITE; CBERS</keyword>
</otherKeys>
<searchKeys>
<keyword>FOTO</keyword>
<keyword>FOTOS</keyword>
<keyword>IMAGEM</keyword>
<keyword>IMAGENS</keyword>
<keyword>SATÉLITE</keyword>
<keyword>CBERS</keyword>
</searchKeys>
<spatRpType>
<SpatRepTypCd value="002">
</SpatRepTypCd>
</spatRpType>
<dataLang>
<languageCode value="por">
</languageCode>
<countryCode Sync="TRUE" value="BRA">
</countryCode>
</dataLang>
<dataChar>
<CharSetCd value="004">
</CharSetCd>
</dataChar>
<dataExt>
<geoEle>
<GeoBndBox>
<exTypeCode>true</exTypeCode>
<westBL>-48.289139</westBL>
<eastBL>-47.30227</eastBL>
<southBL>-16.062268</southBL>
<northBL>-15.490794</northBL>
</GeoBndBox>
</geoEle>
</dataExt>
<dataExt>
<geoEle>
<GeoBndBox esriExtentType="search">
<exTypeCode Sync="FALSE">0</exTypeCode>
<westBL Sync="FALSE">-48.30</westBL>
<eastBL Sync="FALSE">-47.32</eastBL>
<northBL Sync="FALSE">-15.545918</northBL>
<southBL Sync="FALSE">-16.0</southBL>
</GeoBndBox>
</geoEle>
</dataExt>
<envirDesc Sync="TRUE"> Version 6.2 (Build 9200) ; Esri ArcGIS 10.8.0.12790</envirDesc>
<resConst>
<Consts>
<useLimit>All</useLimit>
</Consts>
</resConst>
</dataIdInfo>
<dqInfo>
<dataLineage>
<statement>Projeto Satélite Sino-Brasileiro de Recursos Terrestres. É um programa de cooperação tecnológica entre o Brasil e a China, cujo objetivo é o desenvolvimento e a operação em órbita de satélites de sensoriamento remoto CBERS_4A. Pelo Brasil, o Instituto Nacional de Pesquisas Espaciais (INPE) como responsável pelo desenvolvimento, a Agência Espacial Brasileira (AEB) e o setor industrial brasileiro. Pela China participam a Academia Chinesa de Tecnologia Espacial (CAST) como responsável pelo desenvolvimento, a China National Space Administration (CNSA), a China Center for Resource Satellite Data and Applications (CRESDA) no segmento solo imagem e China Satellite Launch and Tracking General (CLTC) no segmento solo de controle com câmeras Imageadoras de Campo Largo (WFI) reslução de v55 m e a Câmera Multiespectral (MUX) resolução de16,5 m; a terceira, a Câmera Multiespectral e Pancromática de Ampla Varredura (WPM) resoluções de 8 m (multiespectral) e de 2 m (pancromático)</statement>
</dataLineage>
</dqInfo>
<spatRepInfo>
<GridSpatRep>
<numDims>http://www.esri.com/metadata/translator/instance/null</numDims>
<tranParaAv>false</tranParaAv>
</GridSpatRep>
<Georect>
<cellGeo>
<CellGeoCd Sync="TRUE" value="002">
</CellGeoCd>
</cellGeo>
<numDims Sync="TRUE">2</numDims>
<tranParaAv Sync="TRUE">1</tranParaAv>
<chkPtAv Sync="TRUE">0</chkPtAv>
<cornerPts>
<pos Sync="TRUE">148010.285072 8222801.100752</pos>
</cornerPts>
<cornerPts>
<pos Sync="TRUE">148010.285072 8284705.100752</pos>
</cornerPts>
<cornerPts>
<pos Sync="TRUE">253018.285072 8284705.100752</pos>
</cornerPts>
<cornerPts>
<pos Sync="TRUE">253018.285072 8222801.100752</pos>
</cornerPts>
<centerPt>
<pos Sync="TRUE">200514.285072 8253753.100752</pos>
</centerPt>
<ptInPixel>
<PixOrientCd Sync="TRUE" value="001">
</PixOrientCd>
</ptInPixel>
</Georect>
</spatRepInfo>
<spatRepInfo>
<Georect>
<axisDimension type="001">
<dimSize Sync="TRUE">7738</dimSize>
<dimResol>
<value Sync="TRUE" uom="m">8.000000</value>
</dimResol>
</axisDimension>
<axisDimension type="002">
<dimSize Sync="TRUE">13126</dimSize>
<dimResol>
<value Sync="TRUE" uom="m">8.000000</value>
</dimResol>
</axisDimension>
<cornerPts gmlID="ID0E3IAC">
<pos Sync="TRUE">148010.285072 8222801.100752</pos>
</cornerPts>
<cornerPts gmlID="ID0EOJAC">
<pos Sync="TRUE">148010.285072 8284705.100752</pos>
</cornerPts>
<cornerPts gmlID="ID0ECJAC">
<pos Sync="TRUE">253018.285072 8284705.100752</pos>
</cornerPts>
<cornerPts gmlID="ID0EIJAC">
<pos Sync="TRUE">253018.285072 8222801.100752</pos>
</cornerPts>
<centerPt gmlID="ID0EUJAC">
<pos Sync="TRUE">200514.285072 8253753.100752</pos>
</centerPt>
<cellGeo>
<CellGeoCd Sync="TRUE" value="002">
</CellGeoCd>
</cellGeo>
<numDims Sync="TRUE">2</numDims>
<tranParaAv Sync="TRUE">1</tranParaAv>
<chkPtAv Sync="TRUE">0</chkPtAv>
<ptInPixel>
<PixOrientCd Sync="TRUE" value="001">
</PixOrientCd>
</ptInPixel>
</Georect>
</spatRepInfo>
<refSysInfo>
<RefSystem>
<refSysID>
<identCode code="31983">
</identCode>
<idCodeSpace Sync="TRUE">EPSG</idCodeSpace>
<idVersion Sync="TRUE">7.8.3(8.1.2)</idVersion>
</refSysID>
</RefSystem>
</refSysInfo>
<contInfo>
<ImgDesc>
<covDim>
<Band>
<valUnit>
<UOM gmlID="ID0E3LAC" type="length">
<gmlIdent codeSpace="GML_UomSymbol">Unified Code of Units of Measure</gmlIdent>
</UOM>
</valUnit>
<dimDescrp Sync="TRUE">Band_1</dimDescrp>
<maxVal Sync="TRUE">255.000000</maxVal>
<minVal Sync="TRUE">0.000000</minVal>
<bitsPerVal Sync="TRUE">8</bitsPerVal>
</Band>
<Band>
<valUnit>
<UOM type="length">
</UOM>
</valUnit>
<dimDescrp Sync="TRUE">Band_2</dimDescrp>
<maxVal Sync="TRUE">255.000000</maxVal>
<minVal Sync="TRUE">0.000000</minVal>
<bitsPerVal Sync="TRUE">8</bitsPerVal>
</Band>
<Band>
<valUnit>
<UOM type="length">
</UOM>
</valUnit>
<dimDescrp Sync="TRUE">Band_3</dimDescrp>
<maxVal Sync="TRUE">255.000000</maxVal>
<minVal Sync="TRUE">0.000000</minVal>
<bitsPerVal Sync="TRUE">8</bitsPerVal>
</Band>
</covDim>
<contentTyp>
<ContentTypCd Sync="TRUE" value="001">
</ContentTypCd>
</contentTyp>
</ImgDesc>
</contInfo>
<mdDateSt Sync="TRUE">20220817</mdDateSt>
</metadata>
