{ "currentVersion": 10.71, "serviceDescription": "
Mosaico de cobertura de solo de Brasilia e<\/SPAN> cidades<\/SPAN> <\/SPAN>do Goiás do <\/SPAN>entorno, criado a partir de imagens de satélite CBERS, do ano de 2023, com resolução espectral de 8 metros e resolução panshapeada de 2 metrros e cor natural.<\/SPAN><\/P><\/DIV><\/DIV>",
"name": "Imagens/CBERS_4A_WPM_L4_2023",
"description": " Mosaico de cobertura de solo de Brasilia e<\/SPAN> cidades<\/SPAN> <\/SPAN>do Goiás do <\/SPAN>entorno, criado a partir de imagens de satélite CBERS, do ano de 2023, com resolução espectral de 8 metros e resolução panshapeada de 2 metrros e cor natural.<\/SPAN><\/P><\/DIV><\/DIV>",
"extent": {
"xmin": 86223.6143,
"ymin": 8078896.5331999995,
"xmax": 303419.61429999996,
"ymax": 8392460.5332,
"spatialReference": {
"wkid": 31983,
"latestWkid": 31983
}
},
"initialExtent": {
"xmin": 86223.6143,
"ymin": 8078896.5331999995,
"xmax": 303419.61429999996,
"ymax": 8392460.5332,
"spatialReference": {
"wkid": 31983,
"latestWkid": 31983
}
},
"fullExtent": {
"xmin": 86223.6143,
"ymin": 8078896.5331999995,
"xmax": 303419.61429999996,
"ymax": 8392460.5332,
"spatialReference": {
"wkid": 31983,
"latestWkid": 31983
}
},
"pixelSizeX": 1.9999999999999996,
"pixelSizeY": 2,
"bandCount": 4,
"pixelType": "S16",
"minPixelSize": 0.26458386250105836,
"maxPixelSize": 423.33418000169337,
"copyrightText": "SEDUH;INPE",
"serviceDataType": "esriImageServiceDataTypeGeneric",
"minValues": [
0,
0,
0,
0
],
"maxValues": [
255,
255,
255,
255
],
"meanValues": [
91.60970643498375,
102.71458824427091,
105.43280287548548,
106.65080415480878
],
"stdvValues": [
42.79558431399715,
32.47636880577951,
29.171479917466666,
43.6610751854449
],
"objectIdField": "OBJECTID",
"fields": [
{
"name": "OBJECTID",
"type": "esriFieldTypeOID",
"alias": "OBJECTID",
"domain": null
},
{
"name": "Shape",
"type": "esriFieldTypeGeometry",
"alias": "Shape",
"domain": null
},
{
"name": "Name",
"type": "esriFieldTypeString",
"alias": "Name",
"domain": null,
"length": 200
},
{
"name": "MinPS",
"type": "esriFieldTypeDouble",
"alias": "MinPS",
"domain": null
},
{
"name": "MaxPS",
"type": "esriFieldTypeDouble",
"alias": "MaxPS",
"domain": null
},
{
"name": "LowPS",
"type": "esriFieldTypeDouble",
"alias": "LowPS",
"domain": null
},
{
"name": "HighPS",
"type": "esriFieldTypeDouble",
"alias": "HighPS",
"domain": null
},
{
"name": "Category",
"type": "esriFieldTypeInteger",
"alias": "Category",
"domain": {
"type": "codedValue",
"name": "MosaicCatalogItemCategoryDomain",
"description": "Catalog item categories.",
"codedValues": [
{
"name": "Unknown",
"code": 0
},
{
"name": "Primary",
"code": 1
},
{
"name": "Overview",
"code": 2
},
{
"name": "Unprocessed Overview",
"code": 3
},
{
"name": "Partial Overview",
"code": 4
},
{
"name": "Inactive",
"code": 5
},
{
"name": "Uploaded",
"code": 253
},
{
"name": "Incomplete",
"code": 254
},
{
"name": "Custom",
"code": 255
}
],
"mergePolicy": "esriMPTDefaultValue",
"splitPolicy": "esriSPTDefaultValue"
}
},
{
"name": "Tag",
"type": "esriFieldTypeString",
"alias": "Tag",
"domain": null,
"length": 100
},
{
"name": "GroupName",
"type": "esriFieldTypeString",
"alias": "GroupName",
"domain": null,
"length": 100
},
{
"name": "ProductName",
"type": "esriFieldTypeString",
"alias": "ProductName",
"domain": null,
"length": 100
},
{
"name": "CenterX",
"type": "esriFieldTypeDouble",
"alias": "CenterX",
"domain": null
},
{
"name": "CenterY",
"type": "esriFieldTypeDouble",
"alias": "CenterY",
"domain": null
},
{
"name": "ZOrder",
"type": "esriFieldTypeInteger",
"alias": "ZOrder",
"domain": null
},
{
"name": "Shape_Length",
"type": "esriFieldTypeDouble",
"alias": "Shape_Length",
"domain": null
},
{
"name": "Shape_Area",
"type": "esriFieldTypeDouble",
"alias": "Shape_Area",
"domain": null
}
],
"capabilities": "Image,Metadata,Catalog",
"defaultMosaicMethod": "Northwest",
"allowedMosaicMethods": "NorthWest,Center,LockRaster,ByAttribute,Nadir,Viewpoint,Seamline,None",
"sortField": "",
"sortValue": null,
"mosaicOperator": "First",
"maxDownloadSizeLimit": 2048,
"defaultCompressionQuality": 75,
"defaultResamplingMethod": "Bilinear",
"maxImageHeight": 4100,
"maxImageWidth": 15000,
"maxRecordCount": 1000,
"maxDownloadImageCount": 20,
"maxMosaicImageCount": 20,
"singleFusedMapCache": true,
"tileInfo": {
"rows": 256,
"cols": 256,
"dpi": 96,
"format": "MIXED",
"compressionQuality": 75,
"origin": {
"x": -5120900,
"y": 19998100
},
"spatialReference": {
"wkid": 31983,
"latestWkid": 31983
},
"lods": [
{
"level": 0,
"resolution": 423.33418000169337,
"scale": 1600000
},
{
"level": 1,
"resolution": 211.66709000084668,
"scale": 800000
},
{
"level": 2,
"resolution": 158.75031750063502,
"scale": 600000
},
{
"level": 3,
"resolution": 105.83354500042334,
"scale": 400000
},
{
"level": 4,
"resolution": 79.37515875031751,
"scale": 300000
},
{
"level": 5,
"resolution": 52.91677250021167,
"scale": 200000
},
{
"level": 6,
"resolution": 26.458386250105836,
"scale": 100000
},
{
"level": 7,
"resolution": 6.614596562526459,
"scale": 25000
},
{
"level": 8,
"resolution": 2.6458386250105836,
"scale": 10000
},
{
"level": 9,
"resolution": 1.3229193125052918,
"scale": 5000
},
{
"level": 10,
"resolution": 0.6614596562526459,
"scale": 2500
},
{
"level": 11,
"resolution": 0.26458386250105836,
"scale": 1000
}
]
},
"cacheType": "Map",
"allowRasterFunction": true,
"rasterFunctionInfos": [
{
"name": "None",
"description": "A No-Op Function.",
"help": ""
}
],
"rasterTypeInfos": [
{
"name": "Raster Dataset",
"description": "Supports all ArcGIS Raster Datasets",
"help": ""
}
],
"mensurationCapabilities": "None",
"hasHistograms": true,
"hasColormap": false,
"hasRasterAttributeTable": false,
"minScale": 1600000,
"maxScale": 1000,
"minLOD": 0,
"maxLOD": 11,
"exportTilesAllowed": false,
"hasMultidimensions": false,
"supportsStatistics": true,
"supportsAdvancedQueries": true,
"editFieldsInfo": null,
"ownershipBasedAccessControlForRasters": null,
"allowComputeTiePoints": false,
"useStandardizedQueries": true,
"advancedQueryCapabilities": {
"useStandardizedQueries": true,
"supportsStatistics": true,
"supportsOrderBy": true,
"supportsDistinct": true,
"supportsPagination": true
},
"spatialReference": {
"wkid": 31983,
"latestWkid": 31983
}
}