{
 "currentVersion": 10.71,
 "serviceDescription": "Serviço de imagem do mosaico de fotos aéreas scaneadas do vôo de 1975.",
 "name": "Imagens/FOTO_1975",
 "description": "Serviço de imagem do mosaico de fotos aéreas scaneadas do vôo de 1975.",
 "extent": {
  "xmin": 155131.02077647756,
  "ymin": 8221377.6945355525,
  "xmax": 219501.48896389778,
  "ymax": 8272647.5217761,
  "spatialReference": {
   "wkid": 31983,
   "latestWkid": 31983
  }
 },
 "initialExtent": {
  "xmin": 155131.02077647756,
  "ymin": 8221377.6945355525,
  "xmax": 219501.48896389778,
  "ymax": 8272647.5217761,
  "spatialReference": {
   "wkid": 31983,
   "latestWkid": 31983
  }
 },
 "fullExtent": {
  "xmin": 155131.02077647756,
  "ymin": 8221377.6945355525,
  "xmax": 219501.48896389778,
  "ymax": 8272647.5217761,
  "spatialReference": {
   "wkid": 31983,
   "latestWkid": 31983
  }
 },
 "pixelSizeX": 0.568357524810124,
 "pixelSizeY": 0.5683575248101275,
 "bandCount": 1,
 "pixelType": "U16",
 "minPixelSize": 0.13229193125052918,
 "maxPixelSize": 105.83354500042334,
 "copyrightText": "FOTO 1975",
 "serviceDataType": "esriImageServiceDataTypeGeneric",
 "minValues": [
  0
 ],
 "maxValues": [
  255
 ],
 "meanValues": [
  114.64677835427
 ],
 "stdvValues": [
  34.994293420166
 ],
 "objectIdField": "",
 "fields": [],
 "capabilities": "Mensuration,Image,Metadata",
 "defaultMosaicMethod": "Center",
 "allowedMosaicMethods": "",
 "sortField": "",
 "sortValue": null,
 "mosaicOperator": "First",
 "defaultCompressionQuality": 75,
 "defaultResamplingMethod": "Bilinear",
 "maxImageHeight": 4100,
 "maxImageWidth": 15000,
 "singleFusedMapCache": true,
 "tileInfo": {
  "rows": 256,
  "cols": 256,
  "dpi": 96,
  "format": "MIXED",
  "compressionQuality": 75,
  "origin": {
   "x": -5120900,
   "y": 19998100
  },
  "spatialReference": {
   "wkid": 31983,
   "latestWkid": 31983
  },
  "lods": [
   {
    "level": 0,
    "resolution": 105.83354500042334,
    "scale": 400000
   },
   {
    "level": 1,
    "resolution": 79.37515875031751,
    "scale": 300000
   },
   {
    "level": 2,
    "resolution": 52.91677250021167,
    "scale": 200000
   },
   {
    "level": 3,
    "resolution": 26.458386250105836,
    "scale": 100000
   },
   {
    "level": 4,
    "resolution": 13.229193125052918,
    "scale": 50000
   },
   {
    "level": 5,
    "resolution": 6.614596562526459,
    "scale": 25000
   },
   {
    "level": 6,
    "resolution": 2.6458386250105836,
    "scale": 10000
   },
   {
    "level": 7,
    "resolution": 1.9843789687579376,
    "scale": 7500
   },
   {
    "level": 8,
    "resolution": 1.3229193125052918,
    "scale": 5000
   },
   {
    "level": 9,
    "resolution": 0.6614596562526459,
    "scale": 2500
   },
   {
    "level": 10,
    "resolution": 0.26458386250105836,
    "scale": 1000
   },
   {
    "level": 11,
    "resolution": 0.13229193125052918,
    "scale": 500
   }
  ]
 },
 "cacheType": "Map",
 "allowRasterFunction": true,
 "rasterFunctionInfos": [
  {
   "name": "None",
   "description": "",
   "help": ""
  }
 ],
 "rasterTypeInfos": [
  {
   "name": "Raster Dataset",
   "description": "Supports all ArcGIS Raster Datasets",
   "help": ""
  }
 ],
 "mensurationCapabilities": "Basic",
 "hasHistograms": true,
 "hasColormap": false,
 "hasRasterAttributeTable": false,
 "minScale": 400000,
 "maxScale": 500,
 "minLOD": 0,
 "maxLOD": 11,
 "exportTilesAllowed": false,
 "hasMultidimensions": false,
 "supportsStatistics": false,
 "supportsAdvancedQueries": false,
 "editFieldsInfo": null,
 "ownershipBasedAccessControlForRasters": null,
 "allowComputeTiePoints": false,
 "useStandardizedQueries": true,
 "advancedQueryCapabilities": {
  "useStandardizedQueries": true,
  "supportsStatistics": false,
  "supportsOrderBy": false,
  "supportsDistinct": false,
  "supportsPagination": false
 },
 "spatialReference": {
  "wkid": 31983,
  "latestWkid": 31983
 }
}
