{ "currentVersion": 10.71, "serviceDescription": "
Serviço de imagem do mosaico de fotos aéreas scaneadas do vôo de <\/SPAN>1964/1965<\/SPAN>.<\/SPAN><\/P> Mosaico de cobertura de solo do Distrito Federal obtido de fotos de 19<\/SPAN>64/1965<\/SPAN> pertencentes ao acervo Mapoteca da SEDUH<\/SPAN>, fotos <\/SPAN>digitalizsdas por scanner.<\/SPAN>.<\/SPAN><\/P><\/DIV><\/DIV><\/DIV>",
"name": "Mercator/FOTO_1964_MERCATOR",
"description": " Serviço de imagem do mosaico de fotos aéreas scaneadas do vôo de <\/SPAN>1964/1965<\/SPAN>.<\/SPAN><\/P> Mosaico de cobertura de solo do Distrito Federal obtido de fotos de 19<\/SPAN>64/1965<\/SPAN> pertencentes ao acervo Mapoteca da SEDUH<\/SPAN>, fotos <\/SPAN>digitalizsdas por scanner.<\/SPAN>.<\/SPAN><\/P><\/DIV><\/DIV><\/DIV>",
"extent": {
"xmin": 122280.60814548831,
"ymin": 8216754.637594568,
"xmax": 274495.74495098315,
"ymax": 8289492.855532547,
"spatialReference": {
"wkid": 31983,
"latestWkid": 31983
}
},
"initialExtent": {
"xmin": 122280.60814548831,
"ymin": 8216754.637594568,
"xmax": 274495.74495098315,
"ymax": 8289492.855532547,
"spatialReference": {
"wkid": 31983,
"latestWkid": 31983
}
},
"fullExtent": {
"xmin": 122280.60814548831,
"ymin": 8216754.637594568,
"xmax": 274495.74495098315,
"ymax": 8289492.855532547,
"spatialReference": {
"wkid": 31983,
"latestWkid": 31983
}
},
"pixelSizeX": 5,
"pixelSizeY": 5,
"bandCount": 3,
"pixelType": "U8",
"minPixelSize": 0.13229193125052918,
"maxPixelSize": 105.83354500042334,
"copyrightText": "SEDUH/UNTEC/COSIT/DIGEO",
"serviceDataType": "esriImageServiceDataTypeRGB",
"minValues": [
0,
0,
0
],
"maxValues": [
255,
255,
255
],
"meanValues": [
144.83978431537622,
144.83978431537622,
144.83978431537622
],
"stdvValues": [
42.17798580926931,
42.17798580926931,
42.17798580926931
],
"objectIdField": "OBJECTID",
"fields": [
{
"name": "OBJECTID",
"type": "esriFieldTypeOID",
"alias": "OBJECTID",
"domain": null
},
{
"name": "Shape",
"type": "esriFieldTypeGeometry",
"alias": "Shape",
"domain": null
},
{
"name": "Name",
"type": "esriFieldTypeString",
"alias": "Name",
"domain": null,
"length": 200
},
{
"name": "MinPS",
"type": "esriFieldTypeDouble",
"alias": "MinPS",
"domain": null
},
{
"name": "MaxPS",
"type": "esriFieldTypeDouble",
"alias": "MaxPS",
"domain": null
},
{
"name": "LowPS",
"type": "esriFieldTypeDouble",
"alias": "LowPS",
"domain": null
},
{
"name": "HighPS",
"type": "esriFieldTypeDouble",
"alias": "HighPS",
"domain": null
},
{
"name": "Category",
"type": "esriFieldTypeInteger",
"alias": "Category",
"domain": {
"type": "codedValue",
"name": "MosaicCatalogItemCategoryDomain",
"description": "Catalog item categories.",
"codedValues": [
{
"name": "Unknown",
"code": 0
},
{
"name": "Primary",
"code": 1
},
{
"name": "Overview",
"code": 2
},
{
"name": "Unprocessed Overview",
"code": 3
},
{
"name": "Partial Overview",
"code": 4
},
{
"name": "Inactive",
"code": 5
},
{
"name": "Uploaded",
"code": 253
},
{
"name": "Incomplete",
"code": 254
},
{
"name": "Custom",
"code": 255
}
],
"mergePolicy": "esriMPTDefaultValue",
"splitPolicy": "esriSPTDefaultValue"
}
},
{
"name": "Tag",
"type": "esriFieldTypeString",
"alias": "Tag",
"domain": null,
"length": 100
},
{
"name": "GroupName",
"type": "esriFieldTypeString",
"alias": "GroupName",
"domain": null,
"length": 100
},
{
"name": "ProductName",
"type": "esriFieldTypeString",
"alias": "ProductName",
"domain": null,
"length": 100
},
{
"name": "CenterX",
"type": "esriFieldTypeDouble",
"alias": "CenterX",
"domain": null
},
{
"name": "CenterY",
"type": "esriFieldTypeDouble",
"alias": "CenterY",
"domain": null
},
{
"name": "ZOrder",
"type": "esriFieldTypeInteger",
"alias": "ZOrder",
"domain": null
},
{
"name": "Shape_Length",
"type": "esriFieldTypeDouble",
"alias": "Shape_Length",
"domain": null
},
{
"name": "Shape_Area",
"type": "esriFieldTypeDouble",
"alias": "Shape_Area",
"domain": null
},
{
"name": "SOrder",
"type": "esriFieldTypeInteger",
"alias": "SOrder",
"domain": null
},
{
"name": "SLevelPS",
"type": "esriFieldTypeDouble",
"alias": "SLevelPS",
"domain": null
}
],
"capabilities": "Image,Metadata,Catalog",
"defaultMosaicMethod": "Seamline",
"allowedMosaicMethods": "Seamline,NorthWest,Center,LockRaster,ByAttribute,Nadir,Viewpoint,None",
"sortField": "",
"sortValue": null,
"mosaicOperator": "First",
"maxDownloadSizeLimit": 2048,
"defaultCompressionQuality": 75,
"defaultResamplingMethod": "Bilinear",
"maxImageHeight": 4100,
"maxImageWidth": 15000,
"maxRecordCount": 1000,
"maxDownloadImageCount": 20,
"maxMosaicImageCount": 20,
"singleFusedMapCache": true,
"tileInfo": {
"rows": 256,
"cols": 256,
"dpi": 96,
"format": "MIXED",
"compressionQuality": 75,
"origin": {
"x": -5120900,
"y": 19998100
},
"spatialReference": {
"wkid": 31983,
"latestWkid": 31983
},
"lods": [
{
"level": 0,
"resolution": 105.83354500042334,
"scale": 400000
},
{
"level": 1,
"resolution": 79.37515875031751,
"scale": 300000
},
{
"level": 2,
"resolution": 52.91677250021167,
"scale": 200000
},
{
"level": 3,
"resolution": 26.458386250105836,
"scale": 100000
},
{
"level": 4,
"resolution": 13.229193125052918,
"scale": 50000
},
{
"level": 5,
"resolution": 6.614596562526459,
"scale": 25000
},
{
"level": 6,
"resolution": 2.6458386250105836,
"scale": 10000
},
{
"level": 7,
"resolution": 1.9843789687579376,
"scale": 7500
},
{
"level": 8,
"resolution": 1.3229193125052918,
"scale": 5000
},
{
"level": 9,
"resolution": 0.6614596562526459,
"scale": 2500
},
{
"level": 10,
"resolution": 0.26458386250105836,
"scale": 1000
},
{
"level": 11,
"resolution": 0.13229193125052918,
"scale": 500
}
]
},
"cacheType": "Map",
"allowRasterFunction": true,
"rasterFunctionInfos": [
{
"name": "None",
"description": "A No-Op Function.",
"help": ""
}
],
"rasterTypeInfos": [
{
"name": "Raster Dataset",
"description": "Supports all ArcGIS Raster Datasets",
"help": ""
}
],
"mensurationCapabilities": "None",
"hasHistograms": true,
"hasColormap": false,
"hasRasterAttributeTable": false,
"minScale": 400000,
"maxScale": 500,
"minLOD": 0,
"maxLOD": 11,
"exportTilesAllowed": false,
"hasMultidimensions": false,
"supportsStatistics": true,
"supportsAdvancedQueries": true,
"editFieldsInfo": null,
"ownershipBasedAccessControlForRasters": null,
"allowComputeTiePoints": false,
"useStandardizedQueries": true,
"advancedQueryCapabilities": {
"useStandardizedQueries": true,
"supportsStatistics": true,
"supportsOrderBy": true,
"supportsDistinct": true,
"supportsPagination": true
},
"spatialReference": {
"wkid": 31983,
"latestWkid": 31983
}
}