View In:
ArcGIS JavaScript
ArcGIS Online Map Viewer
ArcGIS Earth
ArcMap
View Footprint In:
ArcGIS Online Map Viewer
Service Description: Mosaico de foto de satélite, area de cobertura cidade Planaltina, DF, MAXA TECHNOLOGIES, 50 cm de resolução, ano 2022.
Name: Imagens/2022_50CM_MAXAR
Description: Mosaico de foto de satélite, area de cobertura cidade Planaltina, DF, MAXA TECHNOLOGIES, 50 cm de resolução, ano 2022.
Single Fused Map Cache: true
Tile Info:
- Height: 256
- Width: 256
- DPI: 96
-
Levels of Detail: 12
- Format: MIXED
- Compression Quality: 75.0
- LERC Error: NaN
- Origin: X: -5120900.0
Y: 1.99981E7
- Spatial Reference: 31983
(31983)
Extent:
XMin: 210332.12596279813
YMin: 8268722.0327214785
XMax: 219341.9097095325
YMax: 8273489.589244268
Spatial Reference: 31983
(31983)
Initial Extent:
XMin: 210332.12596279813
YMin: 8268722.0327214785
XMax: 219341.9097095325
YMax: 8273489.589244268
Spatial Reference: 31983
(31983)
Full Extent:
XMin: 210332.12596279813
YMin: 8268722.0327214785
XMax: 219341.9097095325
YMax: 8273489.589244268
Spatial Reference: 31983
(31983)
Pixel Size X: 0.48283942908544364
Pixel Size Y: 0.4828394290854174
Band Count: 3
Pixel Type: U8
RasterFunction Infos: {"rasterFunctionInfos": [{
"name": "None",
"description": "",
"help": ""
}]}
Mensuration Capabilities: None
Has Histograms: true
Has Colormap: false
Has Multi Dimensions : false
Rendering Rule:
Min Scale: 400000
Max Scale: 500
Min LOD: 0
Max LOD: 11
Copyright Text: 2022_50CM_MAXAR
Service Data Type: esriImageServiceDataTypeRGB
Min Values: 10, 6, 0
Max Values: 255, 255, 255
Mean Values: 134.23988612278376, 122.06925294650823, 118.27080405401453
Standard Deviation Values: 35.84137099605926, 31.869533344442537, 29.692288939416812
Object ID Field: OBJECTID
Fields:
-
OBJECTID
(
type: esriFieldTypeOID, alias: OBJECTID
)
-
Shape
(
type: esriFieldTypeGeometry, alias: Shape
)
-
Name
(
type: esriFieldTypeString, alias: Name, length: 200
)
-
MinPS
(
type: esriFieldTypeDouble, alias: MinPS
)
-
MaxPS
(
type: esriFieldTypeDouble, alias: MaxPS
)
-
LowPS
(
type: esriFieldTypeDouble, alias: LowPS
)
-
HighPS
(
type: esriFieldTypeDouble, alias: HighPS
)
-
Category
(
type: esriFieldTypeInteger, alias: Category
,
Coded Values:
[0: Unknown]
,
[1: Primary]
,
[2: Overview]
, ...6 more...
)
-
Tag
(
type: esriFieldTypeString, alias: Tag, length: 100
)
-
GroupName
(
type: esriFieldTypeString, alias: GroupName, length: 100
)
-
ProductName
(
type: esriFieldTypeString, alias: ProductName, length: 100
)
-
CenterX
(
type: esriFieldTypeDouble, alias: CenterX
)
-
CenterY
(
type: esriFieldTypeDouble, alias: CenterY
)
-
ZOrder
(
type: esriFieldTypeInteger, alias: ZOrder
)
-
Shape_Length
(
type: esriFieldTypeDouble, alias: Shape_Length
)
-
Shape_Area
(
type: esriFieldTypeDouble, alias: Shape_Area
)
Default Mosaic Method: Northwest
Allowed Mosaic Methods: NorthWest,Center,LockRaster,ByAttribute,Nadir,Viewpoint,Seamline,None
SortField:
SortValue: null
Mosaic Operator: First
Default Compression Quality: 75
Default Resampling Method: Bilinear
Max Record Count: 1000
Max Image Height: 4100
Max Image Width: 15000
Max Download Image Count: 20
Max Mosaic Image Count: 20
Allow Raster Function: true
Allow Compute TiePoints: false
Supports Statistics: true
Supports Advanced Queries: true
Use StandardizedQueries: true
Raster Type Infos:
Name: Raster Dataset
Description: Supports all ArcGIS Raster Datasets
Help:
Has Raster Attribute Table: false
Edit Fields Info: null
Ownership Based AccessControl For Rasters: null
Child Resources:
Info
Histograms
Key Properties
Legend
MultiDimensionalInfo
rasterFunctionInfos
Supported Operations:
Export Image
Query
Identify
Download Rasters
Compute Histograms
Compute Statistics Histograms
Get Samples
Compute Class Statistics
Query Boundary
Compute Pixel Location