View In:
ArcGIS JavaScript
ArcGIS Online Map Viewer
ArcGIS Earth
ArcMap
View Footprint In:
ArcGIS Online Map Viewer
Service Description: Ortofotografia de cobertura do solo de 2023, Arine Estrada do Sol, Altiplano Leste - Morro da Cruz, Sol Nascente, Ponte de Terra, Engenho das Lages, 26 de Setembro, Vicente Pires, Sobradinho - Café sem Troco, Planaltina - Tororó, Lago Norte, Itapoã, Rajadinha, com a finalidade de restituição aerofotogramétrica.
Name: Imagens/FOTO_AEREA_2023
Description: Ortofotografia de cobertura do solo de 2023, Arine Estrada do Sol, Altiplano Leste - Morro da Cruz, Sol Nascente, Ponte de Terra, Engenho das Lages, 26 de Setembro, Vicente Pires, Sobradinho - Café sem Troco, Planaltina - Tororó, Lago Norte, Itapoã, Rajadinha, com a finalidade de restituição aerofotogramétrica.
Single Fused Map Cache: true
Tile Info:
- Height: 256
- Width: 256
- DPI: 96
-
Levels of Detail: 12
- Format: MIXED
- Compression Quality: 75.0
- LERC Error: NaN
- Origin: X: -5120900.0
Y: 1.99981E7
- Spatial Reference: 31983
(31983)
Extent:
XMin: 150487.6000000033
YMin: 8223104.400000021
XMax: 207679.11999996242
YMax: 8256451.759999997
Spatial Reference: 31983
(31983)
Initial Extent:
XMin: 150487.6000000033
YMin: 8223104.400000021
XMax: 207679.11999996242
YMax: 8256451.759999997
Spatial Reference: 31983
(31983)
Full Extent:
XMin: 150487.6000000033
YMin: 8223104.400000021
XMax: 207679.11999996242
YMax: 8256451.759999997
Spatial Reference: 31983
(31983)
Pixel Size X: 0.07999999999994283
Pixel Size Y: 0.07999999999994271
Band Count: 3
Pixel Type: U8
RasterFunction Infos: {"rasterFunctionInfos": [{
"name": "None",
"description": "A No-Op Function.",
"help": ""
}]}
Mensuration Capabilities: None
Has Histograms: true
Has Colormap: false
Has Multi Dimensions : false
Rendering Rule:
Min Scale: 400000
Max Scale: 500
Min LOD: 0
Max LOD: 11
Copyright Text: FOTO_AEREA_2023-SEDUH
Service Data Type: esriImageServiceDataTypeRGB
Min Values: 0, 0, 0
Max Values: 255, 255, 255
Mean Values: 115.7740288813929, 111.4319154014732, 85.31474525491224
Standard Deviation Values: 55.032916365551834, 47.24827003989778, 43.33239561705984
Object ID Field: OBJECTID
Fields:
-
OBJECTID
(
type: esriFieldTypeOID, alias: OBJECTID
)
-
Shape
(
type: esriFieldTypeGeometry, alias: Shape
)
-
Name
(
type: esriFieldTypeString, alias: Name, length: 200
)
-
MinPS
(
type: esriFieldTypeDouble, alias: MinPS
)
-
MaxPS
(
type: esriFieldTypeDouble, alias: MaxPS
)
-
LowPS
(
type: esriFieldTypeDouble, alias: LowPS
)
-
HighPS
(
type: esriFieldTypeDouble, alias: HighPS
)
-
Category
(
type: esriFieldTypeInteger, alias: Category
,
Coded Values:
[0: Unknown]
,
[1: Primary]
,
[2: Overview]
, ...6 more...
)
-
Tag
(
type: esriFieldTypeString, alias: Tag, length: 100
)
-
GroupName
(
type: esriFieldTypeString, alias: GroupName, length: 100
)
-
ProductName
(
type: esriFieldTypeString, alias: ProductName, length: 100
)
-
CenterX
(
type: esriFieldTypeDouble, alias: CenterX
)
-
CenterY
(
type: esriFieldTypeDouble, alias: CenterY
)
-
ZOrder
(
type: esriFieldTypeInteger, alias: ZOrder
)
-
Shape_Length
(
type: esriFieldTypeDouble, alias: Shape_Length
)
-
Shape_Area
(
type: esriFieldTypeDouble, alias: Shape_Area
)
Default Mosaic Method: Northwest
Allowed Mosaic Methods: NorthWest,Center,LockRaster,ByAttribute,Nadir,Viewpoint,Seamline,None
SortField:
SortValue: null
Mosaic Operator: First
Default Compression Quality: 75
Default Resampling Method: Bilinear
Max Record Count: 1000
Max Image Height: 4100
Max Image Width: 15000
Max Download Image Count: 20
Max Mosaic Image Count: 20
Allow Raster Function: true
Allow Compute TiePoints: false
Supports Statistics: true
Supports Advanced Queries: true
Use StandardizedQueries: true
Raster Type Infos:
Name: Raster Dataset
Description: Supports all ArcGIS Raster Datasets
Help:
Has Raster Attribute Table: false
Edit Fields Info: null
Ownership Based AccessControl For Rasters: null
Child Resources:
Info
Histograms
Key Properties
Legend
MultiDimensionalInfo
rasterFunctionInfos
Supported Operations:
Export Image
Query
Identify
Download Rasters
Compute Histograms
Compute Statistics Histograms
Get Samples
Compute Class Statistics
Query Boundary
Compute Pixel Location