View In:
ArcGIS JavaScript
ArcGIS Online Map Viewer
ArcGIS Earth
ArcMap
View Footprint In:
ArcGIS Online Map Viewer
Service Description: Mosaico composto por imagens/cenas do SPOT (Satélites Para Observação da Terra) foram construídos pelo CNES (Centro Nacional de Estudos Espaciais da França) do ano 1995.
Name: Imagens/SPOT_1995
Description: Mosaico composto por imagens/cenas do SPOT (Satélites Para Observação da Terra) foram construídos pelo CNES (Centro Nacional de Estudos Espaciais da França) do ano 1995.
Single Fused Map Cache: true
Tile Info:
- Height: 256
- Width: 256
- DPI: 96
-
Levels of Detail: 12
- Format: MIXED
- Compression Quality: 75.0
- LERC Error: NaN
- Origin: X: -5120900.0
Y: 1.99981E7
- Spatial Reference: 31983
(31983)
Extent:
XMin: 142251
YMin: 8217109
XMax: 259341
YMax: 8288789
Spatial Reference: 31983
(31983)
Initial Extent:
XMin: 142251
YMin: 8217109
XMax: 259341
YMax: 8288789
Spatial Reference: 31983
(31983)
Full Extent:
XMin: 142251
YMin: 8217109
XMax: 259341
YMax: 8288789
Spatial Reference: 31983
(31983)
Pixel Size X: 5.0
Pixel Size Y: 5.0
Band Count: 3
Pixel Type: U8
RasterFunction Infos: {"rasterFunctionInfos": [{
"name": "None",
"description": "",
"help": ""
}]}
Mensuration Capabilities: Basic
Has Histograms: true
Has Colormap: false
Has Multi Dimensions : false
Rendering Rule:
Min Scale: 400000
Max Scale: 500
Min LOD: 0
Max LOD: 11
Copyright Text: SPOT 1995
Service Data Type: esriImageServiceDataTypeRGB
Min Values: 1, 1, 1
Max Values: 228, 237, 241
Mean Values: 124.94304913667098, 127.38235900329144, 123.14562375910441
Standard Deviation Values: 60.734810868234916, 54.751014103544726, 57.26462293061283
Object ID Field:
Fields:
None
Default Mosaic Method: Center
Allowed Mosaic Methods:
SortField:
SortValue: null
Mosaic Operator: First
Default Compression Quality: 75
Default Resampling Method: Bilinear
Max Record Count: null
Max Image Height: 4100
Max Image Width: 15000
Max Download Image Count: null
Max Mosaic Image Count: null
Allow Raster Function: true
Allow Compute TiePoints: false
Supports Statistics: false
Supports Advanced Queries: false
Use StandardizedQueries: true
Raster Type Infos:
Name: Raster Dataset
Description: Supports all ArcGIS Raster Datasets
Help:
Has Raster Attribute Table: false
Edit Fields Info: null
Ownership Based AccessControl For Rasters: null
Child Resources:
Info
Histograms
Key Properties
Legend
MultiDimensionalInfo
rasterFunctionInfos
Supported Operations:
Export Image
Identify
Measure
Compute Histograms
Compute Statistics Histograms
Get Samples
Compute Class Statistics
Query Boundary
Compute Pixel Location