View In:
ArcGIS JavaScript
ArcGIS Online Map Viewer
ArcGIS Earth
ArcMap
View Footprint In:
ArcGIS Online Map Viewer
Service Description: Serviço de imagem do mosaico de fotos aéreas scaneadas do vôo de 1975.
Name: Imagens/FOTO_1975
Description: Serviço de imagem do mosaico de fotos aéreas scaneadas do vôo de 1975.
Single Fused Map Cache: true
Tile Info:
- Height: 256
- Width: 256
- DPI: 96
-
Levels of Detail: 12
- Format: MIXED
- Compression Quality: 75.0
- LERC Error: NaN
- Origin: X: -5120900.0
Y: 1.99981E7
- Spatial Reference: 31983
(31983)
Extent:
XMin: 155131.02077647756
YMin: 8221377.6945355525
XMax: 219501.48896389778
YMax: 8272647.5217761
Spatial Reference: 31983
(31983)
Initial Extent:
XMin: 155131.02077647756
YMin: 8221377.6945355525
XMax: 219501.48896389778
YMax: 8272647.5217761
Spatial Reference: 31983
(31983)
Full Extent:
XMin: 155131.02077647756
YMin: 8221377.6945355525
XMax: 219501.48896389778
YMax: 8272647.5217761
Spatial Reference: 31983
(31983)
Pixel Size X: 0.568357524810124
Pixel Size Y: 0.5683575248101275
Band Count: 1
Pixel Type: U16
RasterFunction Infos: {"rasterFunctionInfos": [{
"name": "None",
"description": "",
"help": ""
}]}
Mensuration Capabilities: Basic
Has Histograms: true
Has Colormap: false
Has Multi Dimensions : false
Rendering Rule:
Min Scale: 400000
Max Scale: 500
Min LOD: 0
Max LOD: 11
Copyright Text: FOTO 1975
Service Data Type: esriImageServiceDataTypeGeneric
Min Values: 0
Max Values: 255
Mean Values: 114.64677835427
Standard Deviation Values: 34.994293420166
Object ID Field:
Fields:
None
Default Mosaic Method: Center
Allowed Mosaic Methods:
SortField:
SortValue: null
Mosaic Operator: First
Default Compression Quality: 75
Default Resampling Method: Bilinear
Max Record Count: null
Max Image Height: 4100
Max Image Width: 15000
Max Download Image Count: null
Max Mosaic Image Count: null
Allow Raster Function: true
Allow Compute TiePoints: false
Supports Statistics: false
Supports Advanced Queries: false
Use StandardizedQueries: true
Raster Type Infos:
Name: Raster Dataset
Description: Supports all ArcGIS Raster Datasets
Help:
Has Raster Attribute Table: false
Edit Fields Info: null
Ownership Based AccessControl For Rasters: null
Child Resources:
Info
Histograms
Key Properties
Legend
MultiDimensionalInfo
rasterFunctionInfos
Supported Operations:
Export Image
Identify
Measure
Compute Histograms
Compute Statistics Histograms
Get Samples
Compute Class Statistics
Query Boundary
Compute Pixel Location